BEGIN:VCALENDAR
VERSION:2.0
PRODID:-//The Redemption Center Church - ECPv6.15.20//NONSGML v1.0//EN
CALSCALE:GREGORIAN
METHOD:PUBLISH
X-ORIGINAL-URL:https://theredemptioncenter.church
X-WR-CALDESC:Events for The Redemption Center Church
REFRESH-INTERVAL;VALUE=DURATION:PT1H
X-Robots-Tag:noindex
X-PUBLISHED-TTL:PT1H
BEGIN:VTIMEZONE
TZID:America/New_York
BEGIN:DAYLIGHT
TZOFFSETFROM:-0500
TZOFFSETTO:-0400
TZNAME:EDT
DTSTART:20230312T070000
END:DAYLIGHT
BEGIN:STANDARD
TZOFFSETFROM:-0400
TZOFFSETTO:-0500
TZNAME:EST
DTSTART:20231105T060000
END:STANDARD
BEGIN:DAYLIGHT
TZOFFSETFROM:-0500
TZOFFSETTO:-0400
TZNAME:EDT
DTSTART:20240310T070000
END:DAYLIGHT
BEGIN:STANDARD
TZOFFSETFROM:-0400
TZOFFSETTO:-0500
TZNAME:EST
DTSTART:20241103T060000
END:STANDARD
BEGIN:DAYLIGHT
TZOFFSETFROM:-0500
TZOFFSETTO:-0400
TZNAME:EDT
DTSTART:20250309T070000
END:DAYLIGHT
BEGIN:STANDARD
TZOFFSETFROM:-0400
TZOFFSETTO:-0500
TZNAME:EST
DTSTART:20251102T060000
END:STANDARD
END:VTIMEZONE
BEGIN:VEVENT
DTSTART;TZID=America/New_York:20241221T130000
DTEND;TZID=America/New_York:20241221T150000
DTSTAMP:20260422T184703
CREATED:20241216T224035Z
LAST-MODIFIED:20241217T190422Z
UID:10000065-1734786000-1734793200@theredemptioncenter.church
SUMMARY:"A Spoonful of Joy" - Women's Holiday Get-Together
DESCRIPTION:Tickets are $5.  Must be purchased prior to the event.
URL:https://theredemptioncenter.church/events/a-spoonful-of-joy-womens-holiday-get-together/
ATTACH;FMTTYPE=image/webp:https://theredemptioncenter.church/wp-content/uploads/2024/12/Spoonful-of-Joy.webp
END:VEVENT
BEGIN:VEVENT
DTSTART;TZID=America/New_York:20241222T100000
DTEND;TZID=America/New_York:20241222T100000
DTSTAMP:20260422T184703
CREATED:20241217T192444Z
LAST-MODIFIED:20241217T193020Z
UID:10000067-1734861600-1734861600@theredemptioncenter.church
SUMMARY:Sunday Morning Service
DESCRIPTION:“The Ark” – Children’s Church & Nursery Available
URL:https://theredemptioncenter.church/events/sunday-morning-service/2024-12-22/
ATTACH;FMTTYPE=image/png:https://theredemptioncenter.church/wp-content/uploads/2018/06/Picture1.png
END:VEVENT
BEGIN:VEVENT
DTSTART;TZID=America/New_York:20241224T220000
DTEND;TZID=America/New_York:20241224T230000
DTSTAMP:20260422T184703
CREATED:20241217T191428Z
LAST-MODIFIED:20241224T001826Z
UID:10000066-1735077600-1735081200@theredemptioncenter.church
SUMMARY:Christmas Eve Service - Candlelight-Carols-Communion (In Person only)
DESCRIPTION:
URL:https://theredemptioncenter.church/events/christmas-eve-service-candlelight-carols-communion/
ATTACH;FMTTYPE=image/jpeg:https://theredemptioncenter.church/wp-content/uploads/2018/12/Christmas-Eve-Postcard.jpg
END:VEVENT
BEGIN:VEVENT
DTSTART;TZID=America/New_York:20241229T100000
DTEND;TZID=America/New_York:20241229T100000
DTSTAMP:20260422T184703
CREATED:20241217T192444Z
LAST-MODIFIED:20241217T193020Z
UID:10000069-1735466400-1735466400@theredemptioncenter.church
SUMMARY:Sunday Morning Service
DESCRIPTION:“The Ark” – Children’s Church & Nursery Available
URL:https://theredemptioncenter.church/events/sunday-morning-service/2024-12-29/
ATTACH;FMTTYPE=image/png:https://theredemptioncenter.church/wp-content/uploads/2018/06/Picture1.png
END:VEVENT
END:VCALENDAR