BEGIN:VCALENDAR
VERSION:2.0
PRODID:-//The Redemption Center Church - ECPv6.15.20//NONSGML v1.0//EN
CALSCALE:GREGORIAN
METHOD:PUBLISH
X-WR-CALNAME:The Redemption Center Church
X-ORIGINAL-URL:https://theredemptioncenter.church
X-WR-CALDESC:Events for The Redemption Center Church
REFRESH-INTERVAL;VALUE=DURATION:PT1H
X-Robots-Tag:noindex
X-PUBLISHED-TTL:PT1H
BEGIN:VTIMEZONE
TZID:America/New_York
BEGIN:DAYLIGHT
TZOFFSETFROM:-0500
TZOFFSETTO:-0400
TZNAME:EDT
DTSTART:20240310T070000
END:DAYLIGHT
BEGIN:STANDARD
TZOFFSETFROM:-0400
TZOFFSETTO:-0500
TZNAME:EST
DTSTART:20241103T060000
END:STANDARD
BEGIN:DAYLIGHT
TZOFFSETFROM:-0500
TZOFFSETTO:-0400
TZNAME:EDT
DTSTART:20250309T070000
END:DAYLIGHT
BEGIN:STANDARD
TZOFFSETFROM:-0400
TZOFFSETTO:-0500
TZNAME:EST
DTSTART:20251102T060000
END:STANDARD
BEGIN:DAYLIGHT
TZOFFSETFROM:-0500
TZOFFSETTO:-0400
TZNAME:EDT
DTSTART:20260308T070000
END:DAYLIGHT
BEGIN:STANDARD
TZOFFSETFROM:-0400
TZOFFSETTO:-0500
TZNAME:EST
DTSTART:20261101T060000
END:STANDARD
END:VTIMEZONE
BEGIN:VEVENT
DTSTART;TZID=America/New_York:20250202T100000
DTEND;TZID=America/New_York:20250202T100000
DTSTAMP:20260422T154448
CREATED:20241217T192444Z
LAST-MODIFIED:20241217T193020Z
UID:10000074-1738490400-1738490400@theredemptioncenter.church
SUMMARY:Sunday Morning Service
DESCRIPTION:“The Ark” – Children’s Church & Nursery Available
URL:https://theredemptioncenter.church/events/sunday-morning-service/2025-02-02/
ATTACH;FMTTYPE=image/png:https://theredemptioncenter.church/wp-content/uploads/2018/06/Picture1.png
END:VEVENT
BEGIN:VEVENT
DTSTART;TZID=America/New_York:20250209T100000
DTEND;TZID=America/New_York:20250209T100000
DTSTAMP:20260422T154448
CREATED:20241217T192444Z
LAST-MODIFIED:20241217T193020Z
UID:10000075-1739095200-1739095200@theredemptioncenter.church
SUMMARY:Sunday Morning Service
DESCRIPTION:“The Ark” – Children’s Church & Nursery Available
URL:https://theredemptioncenter.church/events/sunday-morning-service/2025-02-09/
ATTACH;FMTTYPE=image/png:https://theredemptioncenter.church/wp-content/uploads/2018/06/Picture1.png
END:VEVENT
BEGIN:VEVENT
DTSTART;TZID=America/New_York:20250216T100000
DTEND;TZID=America/New_York:20250216T100000
DTSTAMP:20260422T154448
CREATED:20241217T192444Z
LAST-MODIFIED:20241217T193020Z
UID:10000076-1739700000-1739700000@theredemptioncenter.church
SUMMARY:Sunday Morning Service
DESCRIPTION:“The Ark” – Children’s Church & Nursery Available
URL:https://theredemptioncenter.church/events/sunday-morning-service/2025-02-16/
ATTACH;FMTTYPE=image/png:https://theredemptioncenter.church/wp-content/uploads/2018/06/Picture1.png
END:VEVENT
BEGIN:VEVENT
DTSTART;TZID=America/New_York:20250222T110000
DTEND;TZID=America/New_York:20250222T130000
DTSTAMP:20260422T154448
CREATED:20250208T192645Z
LAST-MODIFIED:20250208T192645Z
UID:10000330-1740222000-1740229200@theredemptioncenter.church
SUMMARY:February Brunch - Getting to Know You
DESCRIPTION:To register\, please call (216) 815-6400. \n$15/person – Seating is Limited! Call today!
URL:https://theredemptioncenter.church/events/february-brunch-getting-to-know-you/
LOCATION:The Redemption Center Church\, 1200 Broadway Avenue\, Bedford\, OH\, 44146\, United States
END:VEVENT
BEGIN:VEVENT
DTSTART;TZID=America/New_York:20250223T100000
DTEND;TZID=America/New_York:20250223T100000
DTSTAMP:20260422T154448
CREATED:20241217T192444Z
LAST-MODIFIED:20241217T193020Z
UID:10000077-1740304800-1740304800@theredemptioncenter.church
SUMMARY:Sunday Morning Service
DESCRIPTION:“The Ark” – Children’s Church & Nursery Available
URL:https://theredemptioncenter.church/events/sunday-morning-service/2025-02-23/
ATTACH;FMTTYPE=image/png:https://theredemptioncenter.church/wp-content/uploads/2018/06/Picture1.png
END:VEVENT
END:VCALENDAR