BEGIN:VCALENDAR
VERSION:2.0
PRODID:-//The Redemption Center Church - ECPv6.15.20//NONSGML v1.0//EN
CALSCALE:GREGORIAN
METHOD:PUBLISH
X-ORIGINAL-URL:https://theredemptioncenter.church
X-WR-CALDESC:Events for The Redemption Center Church
REFRESH-INTERVAL;VALUE=DURATION:PT1H
X-Robots-Tag:noindex
X-PUBLISHED-TTL:PT1H
BEGIN:VTIMEZONE
TZID:America/New_York
BEGIN:DAYLIGHT
TZOFFSETFROM:-0500
TZOFFSETTO:-0400
TZNAME:EDT
DTSTART:20240310T070000
END:DAYLIGHT
BEGIN:STANDARD
TZOFFSETFROM:-0400
TZOFFSETTO:-0500
TZNAME:EST
DTSTART:20241103T060000
END:STANDARD
BEGIN:DAYLIGHT
TZOFFSETFROM:-0500
TZOFFSETTO:-0400
TZNAME:EDT
DTSTART:20250309T070000
END:DAYLIGHT
BEGIN:STANDARD
TZOFFSETFROM:-0400
TZOFFSETTO:-0500
TZNAME:EST
DTSTART:20251102T060000
END:STANDARD
BEGIN:DAYLIGHT
TZOFFSETFROM:-0500
TZOFFSETTO:-0400
TZNAME:EDT
DTSTART:20260308T070000
END:DAYLIGHT
BEGIN:STANDARD
TZOFFSETFROM:-0400
TZOFFSETTO:-0500
TZNAME:EST
DTSTART:20261101T060000
END:STANDARD
END:VTIMEZONE
BEGIN:VEVENT
DTSTART;TZID=America/New_York:20250406T100000
DTEND;TZID=America/New_York:20250406T100000
DTSTAMP:20260422T130335
CREATED:20241217T192444Z
LAST-MODIFIED:20241217T193020Z
UID:10000083-1743933600-1743933600@theredemptioncenter.church
SUMMARY:Sunday Morning Service
DESCRIPTION:“The Ark” – Children’s Church & Nursery Available
URL:https://theredemptioncenter.church/events/sunday-morning-service/2025-04-06/
ATTACH;FMTTYPE=image/png:https://theredemptioncenter.church/wp-content/uploads/2018/06/Picture1.png
END:VEVENT
BEGIN:VEVENT
DTSTART;TZID=America/New_York:20250413T100000
DTEND;TZID=America/New_York:20250413T100000
DTSTAMP:20260422T130335
CREATED:20241217T192444Z
LAST-MODIFIED:20241217T193020Z
UID:10000084-1744538400-1744538400@theredemptioncenter.church
SUMMARY:Sunday Morning Service
DESCRIPTION:“The Ark” – Children’s Church & Nursery Available
URL:https://theredemptioncenter.church/events/sunday-morning-service/2025-04-13/
ATTACH;FMTTYPE=image/png:https://theredemptioncenter.church/wp-content/uploads/2018/06/Picture1.png
END:VEVENT
BEGIN:VEVENT
DTSTART;TZID=America/New_York:20250420T100000
DTEND;TZID=America/New_York:20250420T100000
DTSTAMP:20260422T130335
CREATED:20241217T192444Z
LAST-MODIFIED:20241217T193020Z
UID:10000085-1745143200-1745143200@theredemptioncenter.church
SUMMARY:Sunday Morning Service
DESCRIPTION:“The Ark” – Children’s Church & Nursery Available
URL:https://theredemptioncenter.church/events/sunday-morning-service/2025-04-20/
ATTACH;FMTTYPE=image/png:https://theredemptioncenter.church/wp-content/uploads/2018/06/Picture1.png
END:VEVENT
BEGIN:VEVENT
DTSTART;TZID=America/New_York:20250427T100000
DTEND;TZID=America/New_York:20250427T100000
DTSTAMP:20260422T130335
CREATED:20241217T192444Z
LAST-MODIFIED:20241217T193020Z
UID:10000086-1745748000-1745748000@theredemptioncenter.church
SUMMARY:Sunday Morning Service
DESCRIPTION:“The Ark” – Children’s Church & Nursery Available
URL:https://theredemptioncenter.church/events/sunday-morning-service/2025-04-27/
ATTACH;FMTTYPE=image/png:https://theredemptioncenter.church/wp-content/uploads/2018/06/Picture1.png
END:VEVENT
END:VCALENDAR